BEGIN:VCALENDAR
VERSION:2.0
PRODID:-//peiq//peiq.de//DE
CALSCALE:GREGORIAN
BEGIN:VEVENT
DTSTART:20170901T200000
DTEND:20170901T220000
DTSTAMP:20260419T203521
URL;VALUE=URI:https://www.pafunddu.de/event/6993
SUMMARY:Antikriegstag 2017: Vortrag und Diskussion mit Professor Dr. Friedhelm Hengsbach, SJ
DESCRIPTION:Prof. Dr. Friedhelm Hengsbach ist Jesuit und zählt zu den bedeutendsten deutschen Sozialethikern. Er war Professor an der Philosophisch-Theologischen Hochschule Sankt Georgen in Frankfurt am Main und Leiter des Oswald von Nell-Breuning-Instituts für Wirtschafts- und Gesellschaftsethik. Dr. Hengsbach wurde 1998 mit dem Gustav-Heinemann Bürgerpreis und 2004 mit dem "Regine-Hildebrandt-Preis für Solidarität bei Arbeitslosigkeit und Armut" ausgezeichnet. Veranstalter: Freundschaft mit Valjevo e.V.
LOCATION:Rathaussaal\, \n85276\, \nPfaffenhofen
UID:PEIQ-PMK2-EVENT-6993-0-0@www.pafunddu.de
END:VEVENT
END:VCALENDAR
