BEGIN:VCALENDAR
VERSION:2.0
PRODID:-//peiq//peiq.de//DE
CALSCALE:GREGORIAN
BEGIN:VEVENT
DTSTART:20170429T100000
DTEND:20170429T120000
DTSTAMP:20260419T203531
URL;VALUE=URI:https://www.pafunddu.de/event/6075
SUMMARY:Tagesseminar: Grundlagen des Asyl- und Aufenthaltsrechts
DESCRIPTION:Wer als ehrenamtlicher Helfer Asylbewerbern beim Asylverfahren, der Aufenthaltssicherung ohne bzw. nach gescheitertem Asylverfahren oder beim Familiennachzug beratend zur Seite stehen möchte, muss die Grundlagen unseres Asyl- und Aufenthaltsrechtes kennen. Dazu dient dieses Seminar. Referent: Rechtsanwalt Dr. Jonathan Leuschner, Fachanwalt für Ausländerrecht Ablauf in 4 Themenblöcken von 10 Uhr -17 Uhr : ÜBERBLICK: Rechtliche Grundlagen/Akteure im Migrationsrecht Verschiedene Papiere und Titel Verschiedene 
LOCATION:Zentrum für Berufs- und Familienförderung\, \n85276\, \nPfaffenhofen an der Ilm
UID:PEIQ-PMK2-EVENT-6075-0-0@www.pafunddu.de
END:VEVENT
END:VCALENDAR
