BEGIN:VCALENDAR
VERSION:2.0
PRODID:-//peiq//peiq.de//DE
CALSCALE:GREGORIAN
BEGIN:VEVENT
DTSTART:20180301T200000
DTEND:20180301T220000
DTSTAMP:20260419T203521
URL;VALUE=URI:https://www.pafunddu.de/event/3324
SUMMARY:Zerstören Privatisierungen unseren Sozialstaat? Vortrag und Diskussion mit Professor Dr. Engartner von der Goethe - Universität Frankfurt
DESCRIPTION:Seit Beginn der Ära Kohl 1982 hat sich der Bund von rund 90 Prozent seiner staatlichen Beteiligungen getrennt. Ursprünglich staatliche Unternehmen wie die Deutsche Bundespost, die Deutsche Bundesbahn, die Deutsche Lufthansa, die VEBA - Gruppe (heute E.ON) und viele andere wurden privatisiert. Ihre Geschäftspolitik orientiert sich seitdem nicht mehr am Gemeinwohl, sondern an dem Ziel einer möglichst hoher Renditen für die Aktionäre. Welche Folgen aber hat die Privatisierung dieser Unternehmen für die Bevölke
LOCATION:Taverne Jannis \, \n85276\, \nPfaffenhofen an der Ilm
UID:PEIQ-PMK2-EVENT-3324-0-0@www.pafunddu.de
END:VEVENT
END:VCALENDAR
