BEGIN:VCALENDAR
VERSION:2.0
PRODID:-//peiq//peiq.de//DE
CALSCALE:GREGORIAN
BEGIN:VEVENT
DTSTART:20260620T130000
DTEND:20260620T180000
DTSTAMP:20260422T194049
URL;VALUE=URI:https://www.pafunddu.de/event/28384
SUMMARY:Summer Splashdown 2026
DESCRIPTION:Das größte Splashdiving-Event der Region kehr 2026 zurück ins Ilmbad. Spannende Wettkämpfe, spektakuläre Shows und Adrenalin pur. Das ist er - der "Summer Splashdown". Ablaufplan- Beginn der Veranstaltung ist ab 13 Uhr.  - "Best Trick" Profis ab 13:30 Uhr. - "Best Trick" Badegäste ab 14 Uhr. - "Best Splash" Profis ab 15:00 Uhr. - "Best Splash" Badegäste ab 15:30 Uhr. - Siegerehrung Profis/Badegäste 16:30 Uhr. - Showspringen um 17 Uhr. - Ende der Veranstaltung ist um 18 Uhr. Jeder kann an den o.g. Wettkämpfe
LOCATION:Ilmbad Pfaffenhofen\, \nIngolstädter Straße 72\, \n85276\, \nPfaffenhofen an der Ilm
UID:PEIQ-PMK2-EVENT-28384-0-0@www.pafunddu.de
END:VEVENT
END:VCALENDAR
