BEGIN:VCALENDAR
VERSION:2.0
PRODID:-//peiq//peiq.de//DE
CALSCALE:GREGORIAN
BEGIN:VEVENT
DTSTART:20230606T190000
DTEND:20230606T210000
DTSTAMP:20260419T205552
URL;VALUE=URI:https://www.pafunddu.de/event/23043
SUMMARY:Dr. Olaf Malek : mRNA-Impfstoffe. Chancen und Risiken
DESCRIPTION:Bei der Bekämpfung von SARS-CoV-2 wurden zum ersten Mal die neuartigen mRNA-Impfstoffe eingesetzt. Dabei werden mRNA-Moleküle injiziert, die den Bauplan für ein Protein enthalten, das dann von den Körperzellen des Geimpften produziert wird. Dieses Protein ist das Antigen, gegen das unser Immunsystem nach der Impfung eine Resistenz aufbauen und vor einer Infektion schützen soll. Mit der mRNA-Technologie ist es möglich, große Mengen derartiger Impfstoffe schnell und kostengünstig herzustellen. Die Pharmaindus
LOCATION:Zentrum für Familien- und Berufsförderung\, \nRotkreuzstraße 2a\, \n85276\, \nPfaffenhofen
UID:PEIQ-PMK2-EVENT-23043-0-0@www.pafunddu.de
END:VEVENT
END:VCALENDAR
