BEGIN:VCALENDAR
VERSION:2.0
PRODID:-//peiq//peiq.de//DE
CALSCALE:GREGORIAN
BEGIN:VEVENT
DTSTART:20210925T170000
DTEND:20210925T190000
DTSTAMP:20260419T205542
URL;VALUE=URI:https://www.pafunddu.de/event/20308
SUMMARY:"Pflegekrise in der Altenpflege" - Vortrag und Diskussion mit Senioren und Pflegeheimleiter Andre Schinck
DESCRIPTION:„Nahezu jeder zweite Corona-Tote in Bayern ist in einem Pflegeheim gestorben“, berichtete der Bayerische Rundfunk am 3. Mai 2021. Diese und ähnlich alarmierende Meldungen haben erneut ein Schlaglicht auf die prekäre Situation im Bereich der Betreuung und Versorgung unserer pflegebedürftigen Mitbürger geworfen. Nach dem Willen der politisch Verantwortlichen sollen auch in der Altenpflege die Gesetze des Marktes, die Ausrichtung auf Kostensenkung und Erwirtschaftung von Gewinnen gelten. Kein Wunder, dass die 
LOCATION:Zentrum für Berufs- und Familienförderung\, \nRotkreuzstraße 2\, \n85276\, \nPfaffenhofen
UID:PEIQ-PMK2-EVENT-20308-0-0@www.pafunddu.de
END:VEVENT
END:VCALENDAR
