BEGIN:VCALENDAR
VERSION:2.0
PRODID:-//peiq//peiq.de//DE
CALSCALE:GREGORIAN
BEGIN:VEVENT
DTSTART:20200314T140000
DTEND:20200314T160000
DTSTAMP:20260419T205552
URL;VALUE=URI:https://www.pafunddu.de/event/18717
SUMMARY:Albrecht Müller, Herausgeber der NachDenkSeiten und früherer Plaungschef im Bundeskanzleramt: Glaube wenig. Hinterfrage alles. Denke selbst. Wie man Manipulationen durchschaut.
DESCRIPTION:Mit einer Reihe echter Reformen wurden in den 60er und 70er Jahren insbesondere unter Kanzler Willy Brandt die Lebensbedingungen der breiten Bevölkerung verbessert, ihre Mitentscheidungsrechte erweitert und der Frieden in Europa mit einer Politik der Aussöhnung und Verständigung mit unseren östlichen Nachbarn gesichert. Heute dagegen sind wir mit einer Politik konfrontiert, die zielgerichtet die Reichen reicher macht und gleichzeitig die Lebensbedingungen der breiten Bevölkerung deutlich verschlechtert. Sti
LOCATION:Hotel Moosburger Hof\, \nMoosburger Straße 3\, \n85276\, \nPfaffenhofen
UID:PEIQ-PMK2-EVENT-18717-0-0@www.pafunddu.de
END:VEVENT
END:VCALENDAR
